BEGIN:VCALENDAR
VERSION:2.0
PRODID:-//Farm to Tableaux - ECPv6.15.20//NONSGML v1.0//EN
CALSCALE:GREGORIAN
METHOD:PUBLISH
X-ORIGINAL-URL:https://farmtotableaux.com
X-WR-CALDESC:Events for Farm to Tableaux
REFRESH-INTERVAL;VALUE=DURATION:PT1H
X-Robots-Tag:noindex
X-PUBLISHED-TTL:PT1H
BEGIN:VTIMEZONE
TZID:America/Los_Angeles
BEGIN:DAYLIGHT
TZOFFSETFROM:-0800
TZOFFSETTO:-0700
TZNAME:PDT
DTSTART:20170312T100000
END:DAYLIGHT
BEGIN:STANDARD
TZOFFSETFROM:-0700
TZOFFSETTO:-0800
TZNAME:PST
DTSTART:20171105T090000
END:STANDARD
BEGIN:DAYLIGHT
TZOFFSETFROM:-0800
TZOFFSETTO:-0700
TZNAME:PDT
DTSTART:20180311T100000
END:DAYLIGHT
BEGIN:STANDARD
TZOFFSETFROM:-0700
TZOFFSETTO:-0800
TZNAME:PST
DTSTART:20181104T090000
END:STANDARD
BEGIN:DAYLIGHT
TZOFFSETFROM:-0800
TZOFFSETTO:-0700
TZNAME:PDT
DTSTART:20190310T100000
END:DAYLIGHT
BEGIN:STANDARD
TZOFFSETFROM:-0700
TZOFFSETTO:-0800
TZNAME:PST
DTSTART:20191103T090000
END:STANDARD
END:VTIMEZONE
BEGIN:VEVENT
DTSTART;TZID=America/Los_Angeles:20181005T180000
DTEND;TZID=America/Los_Angeles:20181005T210000
DTSTAMP:20260423T045107
CREATED:20171025T144807Z
LAST-MODIFIED:20181102T181106Z
UID:371-1538762400-1538773200@farmtotableaux.com
SUMMARY:Bakersfield CA 2018
DESCRIPTION:SOLD OUT!\n\nContact Kayla Nelson to\nbe put on the waitlist\nEmail \n\n \nOur Mission\nTo enable all young people\, especially those who need us most\, to reach their full potential as productive\, caring\, responsible citizens \nlearn more!\n\n\nSponsorships\n\nPresenting sponsor\n\n\n \n \n\n\n\n\n\n\n\n\n\n\n\n\n\n\n\n\n\n\n\n\n\n\n  \n 
URL:https://farmtotableaux.com/event/bgckc2018/
LOCATION:Bakersfield\, Bakersfield\, CA\, United States
END:VEVENT
END:VCALENDAR