BEGIN:VCALENDAR
VERSION:2.0
PRODID:-//Farm to Tableaux - ECPv6.15.20//NONSGML v1.0//EN
CALSCALE:GREGORIAN
METHOD:PUBLISH
X-ORIGINAL-URL:https://farmtotableaux.com
X-WR-CALDESC:Events for Farm to Tableaux
REFRESH-INTERVAL;VALUE=DURATION:PT1H
X-Robots-Tag:noindex
X-PUBLISHED-TTL:PT1H
BEGIN:VTIMEZONE
TZID:America/Los_Angeles
BEGIN:DAYLIGHT
TZOFFSETFROM:-0800
TZOFFSETTO:-0700
TZNAME:PDT
DTSTART:20190310T100000
END:DAYLIGHT
BEGIN:STANDARD
TZOFFSETFROM:-0700
TZOFFSETTO:-0800
TZNAME:PST
DTSTART:20191103T090000
END:STANDARD
BEGIN:DAYLIGHT
TZOFFSETFROM:-0800
TZOFFSETTO:-0700
TZNAME:PDT
DTSTART:20200308T100000
END:DAYLIGHT
BEGIN:STANDARD
TZOFFSETFROM:-0700
TZOFFSETTO:-0800
TZNAME:PST
DTSTART:20201101T090000
END:STANDARD
BEGIN:DAYLIGHT
TZOFFSETFROM:-0800
TZOFFSETTO:-0700
TZNAME:PDT
DTSTART:20210314T100000
END:DAYLIGHT
BEGIN:STANDARD
TZOFFSETFROM:-0700
TZOFFSETTO:-0800
TZNAME:PST
DTSTART:20211107T090000
END:STANDARD
END:VTIMEZONE
BEGIN:VEVENT
DTSTART;TZID=America/Los_Angeles:20201009T180000
DTEND;TZID=America/Los_Angeles:20201009T213000
DTSTAMP:20260424T203927
CREATED:20191218T210618Z
LAST-MODIFIED:20201208T222504Z
UID:1134-1602266400-1602279000@farmtotableaux.com
SUMMARY:Bakersfield\, CA 2020
DESCRIPTION:Registration is Open\nRegister\n\nSponsorship Opportunities\n\nCONTACT US:\nEmail\n\n \n\n \n\n\nTHANK YOU TO OUR SPONSORS\nPresenting Sponsor\n \n \n\n\n\n\n  \n\n\n\n\n\n\n\n\n  \n\n  \n\n\n\n\n\n 
URL:https://farmtotableaux.com/event/bgckc2020/
LOCATION:Bakersfield\, Bakersfield\, CA\, United States
END:VEVENT
END:VCALENDAR