BEGIN:VCALENDAR
VERSION:2.0
PRODID:-//Farm to Tableaux - ECPv6.15.20//NONSGML v1.0//EN
CALSCALE:GREGORIAN
METHOD:PUBLISH
X-WR-CALNAME:Farm to Tableaux
X-ORIGINAL-URL:https://farmtotableaux.com
X-WR-CALDESC:Events for Farm to Tableaux
REFRESH-INTERVAL;VALUE=DURATION:PT1H
X-Robots-Tag:noindex
X-PUBLISHED-TTL:PT1H
BEGIN:VTIMEZONE
TZID:America/Los_Angeles
BEGIN:DAYLIGHT
TZOFFSETFROM:-0800
TZOFFSETTO:-0700
TZNAME:PDT
DTSTART:20210314T100000
END:DAYLIGHT
BEGIN:STANDARD
TZOFFSETFROM:-0700
TZOFFSETTO:-0800
TZNAME:PST
DTSTART:20211107T090000
END:STANDARD
BEGIN:DAYLIGHT
TZOFFSETFROM:-0800
TZOFFSETTO:-0700
TZNAME:PDT
DTSTART:20220313T100000
END:DAYLIGHT
BEGIN:STANDARD
TZOFFSETFROM:-0700
TZOFFSETTO:-0800
TZNAME:PST
DTSTART:20221106T090000
END:STANDARD
BEGIN:DAYLIGHT
TZOFFSETFROM:-0800
TZOFFSETTO:-0700
TZNAME:PDT
DTSTART:20230312T100000
END:DAYLIGHT
BEGIN:STANDARD
TZOFFSETFROM:-0700
TZOFFSETTO:-0800
TZNAME:PST
DTSTART:20231105T090000
END:STANDARD
END:VTIMEZONE
BEGIN:VEVENT
DTSTART;TZID=America/Los_Angeles:20220908T000000
DTEND;TZID=America/Los_Angeles:20220908T235959
DTSTAMP:20260423T104331
CREATED:20201106T044926Z
LAST-MODIFIED:20220826T194511Z
UID:1481-1662595200-1662681599@farmtotableaux.com
SUMMARY:Simi Valley\, CA 2022
DESCRIPTION:Buy Tickets\n\n\n\n\n\n\n\nPre-Register\n\n\n\n\n\n\n\nEmail: ahsvf@ah.org \n\n\n\n\n\n\n\nSponsorships\n\n\n\n\n\n\n\n\n\n\nYour Investment Matters \n\n\n\nYour investment will help benefit Adventist Health SimiValley Foundation’s efforts to elevate the healthcare landscape in our community by providing essential life-saving care in a state-of-the-art facility. The expansion of our Operating Rooms will enable us to continue meeting the growing demand of the community by significantly increasing the surgical options available locally. With the addition of these new operating rooms\, our surgeons and affiliated partners will now have the space to perform more complex and advanced procedures\, allowing our patients to get the care they need\, close to home.  \n\n\n\nWe will be updating and revamping our surgical area to include new and improved surgical equipment\, a new sterile processing area\, integrated robotics and technologies used to enhance patient recovery times while creating the most efficient space possible for our associates and surgeons. This expansion will also allow us to continue to grow specific services offered at Adventist Health Simi Valley that we have become known for such as; total joint replacement and orthopedic surgery\, complex and minimally invasive spine surgery\, breast surgery and robotic surgery. \n\n\n\n\n\n\n\nThank you to our sponsors\n\n\n\nPresenting Sponsor\n\n\n\n\n\n\n\n\n\n\n\n\n\n\n\n\n\n\n\nPlatinum \n\n\n\n\n\n\n\n\n\nAdventist Health Simi Valley Medical Staff \n\n\n\n\n\n\n\n\n\nGold\n\n\n\n\n\n\n\n\n\nAllied Emergency Room Physicians\n\n\n\n\n\n\n\n\n\n\n\n\n\n\n\nSilver\n\n\n\n\n\nAdventist Health White Memorial Foundation \n\n\n\n\n\nAdventist Health Glendale Foundation \n\n\n\n\n\nMid-Valley Properties / Maggie Kestly\n\n\n\n\n\n\n\n\n\n\n\nGlendale Pathology Associates \n\n\n\n\n\n\n\n\n\n\n\n\n\n\n\nMystere Box Sponsors \n\n\n\n\n\n\n\n\n\n\n\nEl Capitan Mexican Grill and Bar \n\n\n\n\n\nOrganic Produce Sponsor\n\n\n\n\n\n\n\n\n\n\n\n\n\n\n\n\n\n\n\nBronze\n\n\n\n\n\nDr. Andrew Luckey\, III\n\n\n\n\n\n\n\n\n\n\n\nAlex Gandel\n\n\n\n\n\nJoyce Erdman\n\n\n\n\n\n\n\n\n\n\n\n\n\n\n\n\n\n\n\n\n\n\n\n\n\n\n\nArtisan Drinking Glass Sponsor\n\n\n\n\n\nValet Sponsor\n\n\n\n\n\nFountain of Youth Sponsor\n\n\n\n\n\nCookie Sponsor\n\n\n\n\n\n\n\n\n\n\n\n\n\n\n\n\n\n\n\nEric Little\n\n\n\n\n\nDr. Odio\n\n\n\n\n\n\n\n\n\nFriend Sponsors\n\n\n\n\n\n\n\n\n\nKathryn M. Stiles \n\n\n\n\n\nDr. Kurohara\n\n\n\n\n\n\n\n\n\nSupporter Sponsors\n\n\n\n\n\n\n\n\n\n\n\n\n\n\n\n\n\n\n\nLive Auction Item Donors \n\n\n\n\n\nNascar Package\n\n\n\n\n\nEuropean River Cruise \n\n\n\n\n\n\n\nStewart-Haas Racing and Haas Automation  \n\n\n\n\n\n\n\n\n\n\n\n\n\n\n\n\n\n\n\n\n\nArtists\n\n\n\n\n\nStephen Fishwick \n\n\n\n\n\nRima Muna \n\n\n\n\n\nWine Partners
URL:https://farmtotableaux.com/event/simivalley/
LOCATION:Hummingbird Nest Ranch\, 2940 Kuehner Drive\, Santa Susana\, California\, 93063\, United States
END:VEVENT
BEGIN:VEVENT
DTSTART;TZID=America/Los_Angeles:20220924T180000
DTEND;TZID=America/Los_Angeles:20220924T213000
DTSTAMP:20260423T104331
CREATED:20211124T031602Z
LAST-MODIFIED:20231103T054950Z
UID:1956-1664042400-1664055000@farmtotableaux.com
SUMMARY:San Diego\, CA 2022
DESCRIPTION:Contact us\n\n\n\n\n\n\n\nBuy Tickets\n\n\n\n\n\n\n\nBecome A Sponsor\n\n\n\n\n\n\n\n\n\n\n\n\n\n\n\n\n\n\n\n\n\n\n\n\n\n\n\n\nThank you to our sponsors\n\n\n\nTitle Sponsor\n\n\n\n\n\n\n\nPlatinum Star Sponsor\n\n\n\n\n\n\n\n\n\n\n\n\n\n\n\n\n\n\n\nGold Sponsors\n\n\n\n\n\n\n\n\n\n\n\n\n\n\n\n\n\n Strike a Pose\n\n\n\n\n\n\n\n\n\n\n\n\n\n\n\n\n\n\n\nSilver Star Sponosrs\n\n\n\n\n\n\n\n\n\n\n\n\n\n\n\n\n\n\n\n\n\n\n\n\n\n\n\n\n\n\n\nLive Auction Sponsor\n\n\n\n\n\nArtisan Cocktail Sponsor\n\n\n\n\n\nFountain of Youth \n\n\n\n\n\n\n\n\n\n\n\n\n\n\n\n\n\n\n\n\n\n\n\n\n\n\n\n\n\n\n\nTwinkle Star Sponsors\n\n\n\n\n\n\n\n\n\n\n\n\n\n\n\n\n\n\n\n\n\n\n\n\n\n\n\n\n\n\n\n\n\nCulinary Partners\n\n\n\n\n\n\n\n\n\n\n\n\n\n\n\n\n\n\n\n\n\n\n\n\n\n\n\n\n\n\n\n\n\n\n\n\n\n\n\n\n\n\n\n\n\n\n\n\n\n\n\n\n\n\n\n\n\n\n\n\n\n\n\n\n\n\n\n\n\n\n\n\n\nWine Partners\n\n\n\n\n\n\n\n\n\n\n\n\n\n\n\n\n\n\n\n\n\n\n\n\n\n\n\n\n\n\n\n\n\n\n\n\n\n\n\n\n\n\n\n\n\n\n\n\n\n\n\n\n\n\n\n\n\n\n\n\n\n\n\n\n\n\n\n\n\n\n\n\n\n\n\n\n\n\n\n\n\nSpirit Partner\n\n\n\n\n\n\n\n\n\n\n\n\n\n\n\n\n\n\n\nBeer Partners\n\n\n\n\n\n\n\n\n\n\n\n\n\n\n\n\n\n\n\n\n\n\n\n\n\n\n\n\n\nUnderwriter
URL:https://farmtotableaux.com/event/sandiego2022/
LOCATION:The Flower Fields Carlsbad\, 5704 Paseo Del Norte\, Carlsbad\, California\, 92008\, United States
END:VEVENT
END:VCALENDAR