BEGIN:VCALENDAR
VERSION:2.0
PRODID:-//Farm to Tableaux - ECPv6.15.20//NONSGML v1.0//EN
CALSCALE:GREGORIAN
METHOD:PUBLISH
X-WR-CALNAME:Farm to Tableaux
X-ORIGINAL-URL:https://farmtotableaux.com
X-WR-CALDESC:Events for Farm to Tableaux
REFRESH-INTERVAL;VALUE=DURATION:PT1H
X-Robots-Tag:noindex
X-PUBLISHED-TTL:PT1H
BEGIN:VTIMEZONE
TZID:America/Los_Angeles
BEGIN:DAYLIGHT
TZOFFSETFROM:-0800
TZOFFSETTO:-0700
TZNAME:PDT
DTSTART:20210314T100000
END:DAYLIGHT
BEGIN:STANDARD
TZOFFSETFROM:-0700
TZOFFSETTO:-0800
TZNAME:PST
DTSTART:20211107T090000
END:STANDARD
BEGIN:DAYLIGHT
TZOFFSETFROM:-0800
TZOFFSETTO:-0700
TZNAME:PDT
DTSTART:20220313T100000
END:DAYLIGHT
BEGIN:STANDARD
TZOFFSETFROM:-0700
TZOFFSETTO:-0800
TZNAME:PST
DTSTART:20221106T090000
END:STANDARD
BEGIN:DAYLIGHT
TZOFFSETFROM:-0800
TZOFFSETTO:-0700
TZNAME:PDT
DTSTART:20230312T100000
END:DAYLIGHT
BEGIN:STANDARD
TZOFFSETFROM:-0700
TZOFFSETTO:-0800
TZNAME:PST
DTSTART:20231105T090000
END:STANDARD
END:VTIMEZONE
BEGIN:VEVENT
DTSTART;TZID=America/Los_Angeles:20221007T180000
DTEND;TZID=America/Los_Angeles:20221007T220000
DTSTAMP:20260423T092428
CREATED:20211124T030153Z
LAST-MODIFIED:20230217T232312Z
UID:1954-1665165600-1665180000@farmtotableaux.com
SUMMARY:Bakersfield\, CA 2022
DESCRIPTION:Contact Us\n\n\n\n\n\n\nSold out! \n\n\n\nTo be added to our waitlist\, contact Ed Jacobs.661-325-3730 x242EJACOBS@BGCLUBSOFKERNCOUNTY.ORG \n\n\n\n\n\n \n\n\n\n\n\n\n\n\n\n\n\nPresenting Sponsor\n\n\n\n\n\n\n\n\n\n\n\nHosting Sponsor\n\n\n\n\n\n\n\n\n\n\n\nGold Sponsors\n\n\n\n\n\n\n\n\n\n\n\n\n\n\n\n\n\n\n\n\n\n\n\n\n\n\n\nSilver Sponsors\n\n\n\n\n\n\n\n\n\n\n\n\n\n\n\n\n\n\n\n\n\n\n\n\n\n\n\n\n\n\n\n\n\n\n\n\n\n\n\n\n\n\n\n\n\n\n\n\n\n\n\n\n\n\n\n\n\n\n\n\n\nBronze Sponsors\n\n\n\n\n\n\n\n\n\n\n\n\n\n\n\n\n\n\n\n\n\n\n\n\n\n\n\n\n\n\n\n\n\n\n\n\n\n\n\n\n\n\n\n\n\n\n\n\n\n\n\n\n\n\n\n\n\n\n\n\n\n\n\n\n\n\n\n\n\n\n\nOne-of-a-Kind Sponsors\n\n\n\n\n\n\n\n\n\n\n\n\n\n\n\n\n\n\n\n\n\n\n\n\n\n\n\n\n\n\n\n\n\n\n\n\n\n\n\n\n\n\n\n\n\n\n\n\n\n\n\n\n\n\n\n\n\n\n\n\n\n\n\n\n\n\n\n\n\n\n\n\n\n\n\n\n\n\n\n\n\n\n\n\n\n\n\n\n\n\n\n\n\n\n\n\n\n\n\n\n\n\n\n\n\n\n\n\n\n\n\n\n\n\n\n\n\n\n\n\n\n\n\n\n\n\n\n\n\n\n\n\n\n\n\n\n\n\n\n\n\n\n\n\n\n\n\n\n\nIn-Kind Sponsors\n\n\n\n\n\n\n\n\n\n\n\n\n\n\n\n\n\n\n\n\n\n\n\n\n\n\n\n\n\n\n\n\n\nWine Partners
URL:https://farmtotableaux.com/event/bgckc2022/
LOCATION:Bakersfield\, Bakersfield\, CA\, United States
END:VEVENT
BEGIN:VEVENT
DTSTART;TZID=America/Los_Angeles:20221015T170000
DTEND;TZID=America/Los_Angeles:20221015T210000
DTSTAMP:20260423T092428
CREATED:20220427T190945Z
LAST-MODIFIED:20230406T214828Z
UID:2317-1665853200-1665867600@farmtotableaux.com
SUMMARY:Long Beach\, CA 2022
DESCRIPTION:Buy Tickets\n\n\n\n\n\n\n\n\n\nBecome a Sponsor
URL:https://farmtotableaux.com/event/foodfinders2022/
LOCATION:California State University Long Beach\, 1250 Bellflower Blvd\, Long Beach\, California\, 90840\, United States
END:VEVENT
END:VCALENDAR