BEGIN:VCALENDAR
VERSION:2.0
PRODID:-//Farm to Tableaux - ECPv6.15.20//NONSGML v1.0//EN
CALSCALE:GREGORIAN
METHOD:PUBLISH
X-WR-CALNAME:Farm to Tableaux
X-ORIGINAL-URL:https://farmtotableaux.com
X-WR-CALDESC:Events for Farm to Tableaux
REFRESH-INTERVAL;VALUE=DURATION:PT1H
X-Robots-Tag:noindex
X-PUBLISHED-TTL:PT1H
BEGIN:VTIMEZONE
TZID:America/Los_Angeles
BEGIN:DAYLIGHT
TZOFFSETFROM:-0800
TZOFFSETTO:-0700
TZNAME:PDT
DTSTART:20230312T100000
END:DAYLIGHT
BEGIN:STANDARD
TZOFFSETFROM:-0700
TZOFFSETTO:-0800
TZNAME:PST
DTSTART:20231105T090000
END:STANDARD
BEGIN:DAYLIGHT
TZOFFSETFROM:-0800
TZOFFSETTO:-0700
TZNAME:PDT
DTSTART:20240310T100000
END:DAYLIGHT
BEGIN:STANDARD
TZOFFSETFROM:-0700
TZOFFSETTO:-0800
TZNAME:PST
DTSTART:20241103T090000
END:STANDARD
BEGIN:DAYLIGHT
TZOFFSETFROM:-0800
TZOFFSETTO:-0700
TZNAME:PDT
DTSTART:20250309T100000
END:DAYLIGHT
BEGIN:STANDARD
TZOFFSETFROM:-0700
TZOFFSETTO:-0800
TZNAME:PST
DTSTART:20251102T090000
END:STANDARD
END:VTIMEZONE
BEGIN:VEVENT
DTSTART;TZID=America/Los_Angeles:20240203T170000
DTEND;TZID=America/Los_Angeles:20240203T210000
DTSTAMP:20260424T044947
CREATED:20230915T165639Z
LAST-MODIFIED:20250219T194301Z
UID:4483-1706979600-1706994000@farmtotableaux.com
SUMMARY:Sarasota\, FL 2024
DESCRIPTION:Buy Tickets\n\n\n\nMobile Bidding\n\n\n\n\n\n\n\nContact us\n\n\n\n\n\n\n\nSponsorship Opportunities\n\n\n\n\n\n\n\n\n\n\n\n\n\n\nThank you to our sponsors\n\n\n\nPresenting Sponsor\n\n\n\n\n\n\n\n\n\n\n\n\n\n\n\n\n\n\n\nRuby Red Slipper Sponsor\n\n\n\n\n\nThe Boren Family in Memory of Dusty Boren\n\n\n\n\n\nYellow Brick Road Sponsors\n\n\n\n\n\n\n\n\n\n\n\nTam Milton \n\n\n\n\n\n\n\n\n\n\n\nBob and Wendy Grady  \n\n\n\n\n\n\n\n\n\n\n\nOver the Rainbow Sponsors\n\n\n\n\n\n\n\n\n\n\n\n\n\n\n\n\n\n\n\n\n\n\n\n\n\n\n\nWine\n\n\n\n\n\n\n\n\n\nStrike A Pose\n\n\n\n\n\n\n\n\n\nLive Auction\n\n\n\n\n\n\n\n\n\n\n\nSilent Acution\n\n\n\n\n\n\n\n\n\nArt Auction\n\n\n\n\n\n\n\n\n\nTableaux Sponsor\n\n\n\n\n\n\n\n\n\nTableaux Sponsor\n\n\n\n\n\n\n\n\n\n\n\nLemon Drop Cocktail\n\n\n\nLuoma Family\n\n\n\n\n\nValet Sponsor\n\n\n\n\n\n\n\n\n\nHydration Station\n\n\n\n\n\n\n\n\n\nHydration Station\n\n\n\n\n\n\n\n\n\nLollipop\n\n\n\nKatzbeck Family\n\n\n\n\n\n\n\nLagniappe\n\n\n\n\n\n\n\n\n\nKansas Tribune
URL:https://farmtotableaux.com/event/thehaven-2024/
LOCATION:Sarasota Circus Conservatory\, 2075 Bahia Vista Street\, Sarasota\, Florida\, 34239\, United States
END:VEVENT
END:VCALENDAR