BEGIN:VCALENDAR
VERSION:2.0
PRODID:-//Farm to Tableaux - ECPv6.15.20//NONSGML v1.0//EN
CALSCALE:GREGORIAN
METHOD:PUBLISH
X-WR-CALNAME:Farm to Tableaux
X-ORIGINAL-URL:https://farmtotableaux.com
X-WR-CALDESC:Events for Farm to Tableaux
REFRESH-INTERVAL;VALUE=DURATION:PT1H
X-Robots-Tag:noindex
X-PUBLISHED-TTL:PT1H
BEGIN:VTIMEZONE
TZID:America/Los_Angeles
BEGIN:DAYLIGHT
TZOFFSETFROM:-0800
TZOFFSETTO:-0700
TZNAME:PDT
DTSTART:20240310T100000
END:DAYLIGHT
BEGIN:STANDARD
TZOFFSETFROM:-0700
TZOFFSETTO:-0800
TZNAME:PST
DTSTART:20241103T090000
END:STANDARD
BEGIN:DAYLIGHT
TZOFFSETFROM:-0800
TZOFFSETTO:-0700
TZNAME:PDT
DTSTART:20250309T100000
END:DAYLIGHT
BEGIN:STANDARD
TZOFFSETFROM:-0700
TZOFFSETTO:-0800
TZNAME:PST
DTSTART:20251102T090000
END:STANDARD
BEGIN:DAYLIGHT
TZOFFSETFROM:-0800
TZOFFSETTO:-0700
TZNAME:PDT
DTSTART:20260308T100000
END:DAYLIGHT
BEGIN:STANDARD
TZOFFSETFROM:-0700
TZOFFSETTO:-0800
TZNAME:PST
DTSTART:20261101T090000
END:STANDARD
END:VTIMEZONE
BEGIN:VEVENT
DTSTART;TZID=America/Los_Angeles:20250426T180000
DTEND;TZID=America/Los_Angeles:20250426T220000
DTSTAMP:20260423T075512
CREATED:20240607T194030Z
LAST-MODIFIED:20250812T182021Z
UID:5710-1745690400-1745704800@farmtotableaux.com
SUMMARY:Springfield\, MO 2025
DESCRIPTION:Springfield\, MO\n\n\n\n\n\n\nBecome a Sponsor!\n\n\n\n\n\n\n\nPurchase Tickets!\n\n\n\n\n\n\n\n\n\n\n\n\n\n\n\n\n\n\nThank you to our Sponsors\n\n\n\nGold Sponsor\n\n\n\n\n\n\n\n\n\n\n\n\n\n\n\n\n\n\n\n\n\n\n\n\n\n\n\n\n\n\n\n\n\n\n\n\n\n\n\n\n\n\n\nSilver Sponsor\n\n\n\n\n\n\n\n\n\n\n\n\n\n\n\n\n\n\n\n\n\n\n\nBronze Sponsor\n\n\n\n\n\n\n\n\n\n\n\n\n\n\n\n\n\n\n\n\n\n\n\n\n\n\n\n\n\n\n\n\n\n\n\nGo-Vino Glass Sponsor\n\n\n\n\n\n\n\n\n\nPlacemat Sponsor\n\n\n\n\n\n\n\n\n\nMystére Box Printing Sponsor\n\n\n\n\n\n\n\n\n\n\n\n\n\n\n\nDinner Wine Sponsor\n\n\n\n\n\n\n\n\n\n\n\n\n\n\n\n\n\n\n\n\n\n\n\n\n\n\n\n\n\n\n\n\n\nIn-Kind Sponsor\n\n\n\n\n\n\n\n\n\n\n\n\n\n\n\nMissouri State Department of Theatre and Dance \n\n\n\n\n\n\n\n\n\n\n\n\n\n\n\n\n\n\n\nFor questions\, contact Whitney Williams by calling (417) 824-2394 or email whitney.williams@lsosm.org.
URL:https://farmtotableaux.com/event/springfield-mo-2025/
LOCATION:Haseltine Estate\, 1303 South Farm Road 115\, Springfield\, Missouri\, 65802
END:VEVENT
END:VCALENDAR